Workbook

Sheet Form 1.1 COVER 
A1: Annex -A: Bidder’s Financial Proposal Submission Form
A2: REFERENCE No. LRFP-2026-9202696 - ESTABLISHMENT OF LONG-TERM AGREEMENT SUPPLY, INSTALLATION AND COMMISSIONING OF HYBRIDE SOLAR PUMPING SYSTEM, BOREHOLE RISERS, CASINGS, PIPES AND FITTINGS, WATER QUALITY TREATMENT KITS AND PLANTS, AUXILIARY EQUIPMENT AND SPARE PARTS OF WASH PROJECTS ACROSS ETHIOPIA
A4: Form A1: Financial Proposal Cover Letter
A6: Name of Bidder: Click or tap here to enter text.
A7: Date: Click or tap to enter a date.
A9: We, the undersigned, offer to Establishment of Long Term Agreement (LTA) for Supply and Installation of Pumps, Generators, and Solar Water Pumping Systems in Various Regions, Ethiopia in accordance with your Request for Proposal No. LRFP-2026-9202696 and our Proposal. We are hereby submitting our Proposal, which includes the Technical Proposal and this Financial Proposal sealed under a separate envelope.
A10: Our attached Financial Proposal is for the sum of ______________________________________
A11: Our Proposal shall be valid and remain binding upon us for the period of time specified in the Data Sheet.
A13: We understand that you are not bound to accept any Proposal that you receive.
A15: Name : _____________________________________________________________
A16: Title : _____________________________________________________________
A17: Date : _____________________________________________________________
... A21: [Official stamp of the Proposer]

Sheet Form 1.1 SUMMARY COST
A1: ANNEX A: BIDDER'S FINANCIAL PROPOSAL SUBMISSION FORM
A2: ESTABLISHMENT OF LONG-TERM AGREEMENT SUPPLY, INSTALLATION AND COMMISSIONING OF HYBRIDE SOLAR PUMPING SYSTEM, BOREHOLE RISERS, CASINGS, PIPES AND FITTINGS, WATER QUALITY TREATMENT KITS AND PLANTS, AUXILIARY EQUIPMENT AND SPARE PARTS OF WASH PROJECTS ACROSS ETHIOPIAL
A3: FORM A2: SUMMAR COST- RFP-2026-9202696
A5: Bidder | D5: Region/ Location | E5: Click or tap here to enter location
D6: Currency of Bid | E6: Click or tap here to enter USD or ETB
A8: Bill No. | B8: DESCRIPTION | C8: SUPPLY RATE | D8: INSTALLATION RATE | E8: SUB - TOTAL SUPPLY & INSTALLATION
A9: ='Form 1.3 BOQ & PRICE'!A8 -> 1 | B9: ='Form 1.3 BOQ & PRICE'!B8 -> MOTOR-PUMP UNIT:
A10: ='Form 1.3 BOQ & PRICE'!A70 -> 2 | B10: ='Form 1.3 BOQ & PRICE'!B70 -> SOLAR PV GENERATOR SYSTEM
A11: ='Form 1.3 BOQ & PRICE'!A465 -> 3 | B11: ='Form 1.3 BOQ & PRICE'!B465 -> BACKUP POWER SUPPLY SYSTEM
A12: ='Form 1.3 BOQ & PRICE'!A578 -> 4 | B12: ='Form 1.3 BOQ & PRICE'!B578 -> BOREHOLE RISERS, CASINGS, PIPE AND FITTINGS
A13: ='Form 1.3 BOQ & PRICE'!A1185 -> 5 | B13: ='Form 1.3 BOQ & PRICE'!B1185 -> SCADA AND REMOTE MONITORING SYSTEM
B14: TOTAL SUPPLY & INSTALLATION COST | E14: =SUM(E9:E13) -> 0
A17: Our attached Financial Proposal is for the sum of ______________________________________
A18: Our Proposal shall be valid and remain binding upon us for the period of time specified in the Data Sheet.
A19: We understand that you are not bound to accept any Proposal that you receive.
A21: Name : _____________________________________________________________
A22: Title : _____________________________________________________________ | E22: [Official stamp of the Company]
A23: Date : _____________________________________________________________
A24: Signature : _____________________________________________________________

Sheet Form 1.3 BOQ & PRICE
A1: ANNEX 1: BIDDER'S FINANCIAL PROPOSAL SUBMISSION FORM
A2: ESTABLISHMENT OF LONG-TERM AGREEMENT SUPPLY, INSTALLATION AND COMMISSIONING OF HYBRIDE SOLAR PUMPING SYSTEM, BOREHOLE RISERS, CASINGS, PIPES AND FITTINGS, WATER QUALITY TREATMENT KITS AND PLANTS, AUXILIARY EQUIPMENT AND SPARE PARTS OF WASH PROJECTS ACROSS ETHIOPIA-
A3: Form: A1: BILL OF QUANTITY AND PRICE SCHEDULE - LRFP-2026-9202696
A4: Bidder: | C4: Region: | E4: Click here to enter region
C5: Currency: | E5: Click here to enter USD or ETB
A7: BILL No. | B7: DESCRIPTION | C7: UNIT | D7: QTY | E7: Supply | F7: Installation | G7: Total Rate
A8: 1 | B8: MOTOR-PUMP UNIT:
A9: 1.1 | B9: Supply, delivery, installation, testing, commissioning and warranty of submersible borehole pump complete with stainless steel hydraulic pump end, rewindable IE3 AC submersible motor, stainless steel dry-run protection probes (pair), motor cable splice kit, non-return valve, cable guards, coupling, and all accessories required for complete operation. Pump and motor shall comply with EN 809, EN 60034-1 and IEC 60364. Pump wetted components shall be stainless steel. Motor windings shall be copper, insulation class as specified in EN 60034-1, protection degree IP68 for submerged equipment, and suitable for operation with variable frequency drives/solar pump controllers. Certified pump performance curves demonstrating the guaranteed duty point shall be submitted.
A10: 1.1.1 | B10: Submersible Pump, Q:1-4 m³/h, H: 40-160 m, 0.75 kW | C10: Set | D10: 1 | G10: =D10*(E10+F10) -> 0
A11: 1.1.2 | B11: Submersible Pump, Q:3-5 m³/h, H: 65-100 m, 1.5 kW | C11: Set | D11: 1 | G11: =D11*(E11+F11) -> 0
A12: 1.1.3 | B12: Submersible Pump, Q:3-6 m³/h, H: 80-170 m, 2.2 kW | C12: Set | D12: 1 | G12: =D12*(E12+F12) -> 0
A13: 1.1.4 | B13: Submersible Pump, Q:3-9 m³/h, H: 90-270 m, 3.7 kW | C13: Set | D13: 1 | G13: =D13*(E13+F13) -> 0
A14: 1.1.5 | B14: Submersible Pump, Q:4-12 m³/h, H:100-300 m, 5.5 kW | C14: Set | D14: 1 | G14: =D14*(E14+F14) -> 0
A15: 1.1.6 | B15: Submersible Pump, Q:5-20 m³/h, H: 80-325 m, 7.5 kW | C15: Set | D15: 1 | G15: =D15*(E15+F15) -> 0
A16: 1.1.7 | B16: Submersible Pump, Q:10-25m³/h, H: 80-200 m, 9.3 kW | C16: Set | D16: 1 | G16: =D16*(E16+F16) -> 0
A17: 1.1.8 | B17: Submersible Pump, Q: 8-20m³/h, H: 120-300 m, 11 kW | C17: Set | D17: 1 | G17: =D17*(E17+F17) -> 0
A18: 1.1.9 | B18: Submersible Pump, Q:12-24m³/h, H:135-270m, 15 kW | C18: Set | D18: 1 | G18: =D18*(E18+F18) -> 0
A19: 1.1.10 | B19: Submersible Pump,Q:12-40 m³/h, H:100-350m, 18.5kW | C19: Set | D19: 1 | G19: =D19*(E19+F19) -> 0
A20: 1.1.11 | B20: Submersible Pump, Q:16-40 m³/h, H: 120-300 m, 22 kW | C20: Set | D20: 1 | G20: =D20*(E20+F20) -> 0
A21: 1.1.12 | B21: Submersible Pump, Q:20-50 m³/h, H: 110-280 m, 26 kW | C21: Set | D21: 1 | G21: =D21*(E21+F21) -> 0
... A34: 1.1.25 | B34: Submersible Pump, Q:140-250m³/h, H: 210-385 m, 250 kW | C34: Set | D34: 1 | G34: =D34*(E34+F34) -> 0
A35: 1.2 | B35: Supply, delivery, installation, testing, commissioning and warranty of horizontal or vertical centrifugal surface pump units complete with IE3 high-efficiency electric motor, flexible coupling, coupling guard, fabricated steel base frame, anti-vibration mountings, suction and discharge flanges, pressure gauge connection points, non-return valve, isolation valves, foundation bolts, and all accessories required for complete operation. The pump shall be suitable for clean water pumping applications including water supply, transmission pumping, booster pumping, and solar pumping systems through VFD/solar pump controllers where applicable. Pump units shall comply with EN 809, EN 60034-1, IEC 60364, and applicable IEC standards. Pump casings and hydraulic components shall be manufactured from corrosion-resistant cast iron, ductile iron, stainless steel, or equivalent approved materials suitable for potable water applications. Motor windings shall be copper, IE3 efficiency class minimum, insulation Class F or better, and protection degree IP55 minimum. The Contractor shall provide certified factory pump test certificates and pump performance curves demonstrating compliance with the specified duty point (flow, head, and power). Rates shall include all accessories, testing, commissioning, documentation, O&M manuals, and warranty. | G35: =D35*(E35+F35) -> 0
A36: 1.2.1 | B36: Surface Pump Set, Q: 2–4 m³/h, H: 40–80 m, 0.75 kW | C36: Set | D36: 1 | G36: =D36*(E36+F36) -> 0
A37: 1.2.2 | B37: Surface Pump Set, Q: 3–5 m³/h, H: 65–160 m, 1.5 kW | C37: Set | D37: 1 | G37: =D37*(E37+F37) -> 0
A38: 1.2.3 | B38: Surface Pump Set, Q: 3–8 m³/h, H: 60–160 m, 2.2 kW | C38: Set | D38: 1 | G38: =D38*(E38+F38) -> 0
A39: 1.2.4 | B39: Surface Pump Set, Q: 3–8 m³/h, H: 100–270 m, 3.7 kW | C39: Set | D39: 1 | G39: =D39*(E39+F39) -> 0
A40: 1.2.5 | B40: Surface Pump Set, Q: 8–12 m³/h, H: 100–150 m, 5.5 kW | C40: Set | D40: 1 | G40: =D40*(E40+F40) -> 0
A41: 1.2.6 | B41: Surface Pump Set, Q: 12–25 m³/h, H: 65–140 m, 7.5 kW | C41: Set | D41: 1 | G41: =D41*(E41+F41) -> 0
A42: 1.2.7 | B42: Surface Pump Set, Q: 12–25 m³/h, H: 80–170 m, 9.3 kW | C42: Set | D42: 1 | G42: =D42*(E42+F42) -> 0
A43: 1.2.8 | B43: Surface Pump Set, Q: 12–65 m³/h, H: 40–200 m, 11 kW | C43: Set | D43: 1 | G43: =D43*(E43+F43) -> 0
A44: 1.2.9 | B44: Surface Pump Set, Q: 15–45 m³/h, H: 72–220 m, 15 kW | C44: Set | D44: 1 | G44: =D44*(E44+F44) -> 0
A45: 1.2.10 | B45: Surface Pump Set, Q: 25–50 m³/h, H: 80–160 m, 18.5 kW | C45: Set | D45: 1 | G45: =D45*(E45+F45) -> 0
A46: 1.2.11 | B46: Surface Pump Set, Q: 30–90 m³/h, H: 50–160 m, 22 kW | C46: Set | D46: 1 | G46: =D46*(E46+F46) -> 0
A47: 1.2.12 | B47: Surface Pump Set, Q: 20–40 m³/h, H: 140–280 m, 26 kW | C47: Set | D47: 1 | G47: =D47*(E47+F47) -> 0
... A59: 1.2.24 | B59: Surface Pump Set, Q: 140–240 m³/h, H: 280–300 m, 200 kW | C59: Set | D59: 1 | G59: =D59*(E59+F59) -> 0
A60: 1.2.25 | B60: Surface Pump Set, Q: 180–280 m³/h, H: 290–300 m, 250 kW | C60: Set | D60: 1
A61: 1.3 | B61: Electrically Driven Chlorine Dosing Pumping system
A62: 1.3.1 | B62: Supply, installation, testing and commissioning of complete electrically driven diaphragm chlorine dosing pump, capacity 30-50 L/hr, complete with all accessories, electrical connections, mounting arrangements, calibration facilities and commissioning. | C62: Set | D62: 1
A63: 1.3.2 | B63: Supply, installation, testing and commissioning of complete electrically driven diaphragm chlorine dosing pump, capacity 60-80 L/hr, complete with all accessories, electrical connections, mounting arrangements, calibration facilities and commissioning. | C63: Set | D63: 1
A64: 1.3.3 | B64: Supply, installation, testing and commissioning of complete electrically driven diaphragm chlorine dosing pump, capacity 80-100 L/hr, complete with all accessories, electrical connections, mounting arrangements, calibration facilities and commissioning. | C64: Set | D64: 1
A65: 1.3.4 | B65: Supply, installation, testing and commissioning of complete electrically driven diaphragm chlorine dosing pump, capacity 100-120 L/hr, complete with all accessories, electrical connections, mounting arrangements, calibration facilities and commissioning. | C65: Set | D65: 1
A66: 1.3.5 | B66: Supply, installation, testing and commissioning of complete motor-driven metering pump, capacity up to 50 L/hr and operating pressure up to 60 bar, including all accessories and commissioning. | C66: Set | D66: 1
A67: 1.3.6 | B67: Supply, installation, testing and commissioning of complete motor-driven metering pump, capacity 50-100 L/hr, including all accessories and commissioning. | C67: Set | D67: 1
A68: 1.3.7 | B68: Supply, installation, testing and commissioning of complete motor-driven metering pump, capacity 100-1000 L/hr, including all accessories and commissioning. | C68: Set | D68: 1
B69: Total 1
A70: 2 | B70: SOLAR PV GENERATOR SYSTEM
A71: 2.1 | B71: Supply, delivery, installation, testing and commissioning of Bifacial N-Type TOPCon Glass-Glass Solar PV Modules, OR Monocrystalline N-Type TOPCon Solar PV Modules, minimum minimum 350-650 Wp, IEC 61215 and IEC 61730 certified, complete with connectors, cabling interfaces, fixing accessories and all necessary accessories
A72: 2.1.1 | B72: Bifacial PV Modules, 650Wp | C72: Ea | D72: 1 | G72: =D72*(E72+F72) -> 0
A73: 2.1.2 | B73: Bifacial PV Modules, 550Wp | C73: Ea | D73: 1 | G73: =D73*(E73+F73) -> 0
A74: 2.1.3 | B74: Bifacial PV Modules, 450Wp | C74: Ea | D74: 1 | G74: =D74*(E74+F74) -> 0
A75: 2.1.4 | B75: Bifacial PV Modules, 350Wp | C75: Ea | D75: 1 | G75: =D75*(E75+F75) -> 0
A76: 2.1.5 | B76: Monocrystalline PV Modules, 650Wp | C76: Ea | D76: 1 | G76: =D76*(E76+F76) -> 0
A77: 2.1.6 | B77: Monocrystalline PV Modules, 550Wp | C77: Ea | D77: 1 | G77: =D77*(E77+F77) -> 0
A78: 2.1.7 | B78: Monocrystalline PV Modules, 450Wp | C78: Ea | D78: 1 | G78: =D78*(E78+F78) -> 0
A79: 2.1.8 | B79: Monocrystalline PV Modules, 350Wp | C79: Ea | D79: 1 | G79: =D79*(E79+F79) -> 0
A80: 2.1.9 | B80: Testing, commissioning and performance verification | C80: Lot | D80: 1 | G80: =D80*(E80+F80) -> 0
A81: 2.2 | B81: Module mounting structure: Supply, fabricate, deliver, install, test and commission a complete set of Module Mounting Structure with fixed-tilt ground mounted solar support system for sixteen (Type-1) & four (type-2) photovoltaic modules of up to 650Wp each, comprising S355 hot-dip galvanized steel columns, rafters, purlins, bracings, cleats, connectors, foundation templates, M10 Grade 8.8 structural fasteners, SS304 anti-theft module fasteners, complete concrete pile foundations (400mm diameter × 1600mm depth), excavation, backfilling, installation, alignment, testing, documentation, factory acceptance testing and all materials, labor, equipment and incidentals required for a complete operational mounting structure in accordance with approved drawings and specifications. | G81: =D81*(E81+F81) -> 0
A82: 2.2.1 | B82: Complete 16-MMS (16 Module Mount Structure) | C82: Set | D82: 1 | G82: =D82*(E82+F82) -> 0
A83: 2.2.2 | B83: Complete 4-MMS (4 Module Mount Structure) | C83: Set | D83: 1 | G83: =D83*(E83+F83) -> 0
A84: 2.3 | B84: Combiner box: Supply, installation, testing and commissioning of DC Solar Combiner Box complete with string input terminals, fuse holders and gPV fuses, positive and negative copper busbars, Type II DC surge protection devices (SPD), weatherproof enclosure (IP65 minimum), internal wiring, labels, cable glands, mounting accessories, testing, commissioning, documentation and warranty. The rate shall include all internal components and accessories required for a complete combiner box installation. DC isolators shall be measured and paid for separately. Multiple combiner boxes may be used in parallel to achieve the required PV string capacity. | G84: =D84*(E84+F84) -> 0
A85: 2.3.1 | B85: DC Solar Combiner Box, 3 String Inputs | C85: No. | D85: 1 | G85: =D85*(E85+F85) -> 0
A86: 2.3.2 | B86: DC Solar Combiner Box, 4 String Inputs | C86: No. | D86: 1 | G86: =D86*(E86+F86) -> 0
A87: 2.3.3 | B87: DC Solar Combiner Box, 5 String Inputs | C87: No. | D87: 1 | G87: =D87*(E87+F87) -> 0
A88: 2.3.4 | B88: DC Solar Combiner Box, 6 String Inputs | C88: No. | D88: 1 | G88: =D88*(E88+F88) -> 0
A89: 2.3.5 | B89: DC Solar Combiner Box, 7 String Inputs | C89: No. | D89: 1 | G89: =D89*(E89+F89) -> 0
A90: 2.3.6 | B90: DC Solar Combiner Box, 8 String Inputs | C90: No. | D90: 1 | G90: =D90*(E90+F90) -> 0
A91: 2.3.7 | B91: DC Solar Combiner Box, 9 String Inputs | C91: No. | D91: 1 | G91: =D91*(E91+F91) -> 0
A92: 2.3.8 | B92: DC Solar Combiner Box, 10 String Inputs | C92: No. | D92: 1 | G92: =D92*(E92+F92) -> 0
A93: 2.3.9 | B93: DC Solar Combiner Box, 11 String Inputs | C93: No. | D93: 1 | G93: =D93*(E93+F93) -> 0
A94: 2.3.10 | B94: DC Solar Combiner Box, 12 String Inputs | C94: No. | D94: 1 | G94: =D94*(E94+F94) -> 0
A95: 2.3.11 | B95: DC Solar Combiner Box, 13 String Inputs | C95: No. | D95: 1 | G95: =D95*(E95+F95) -> 0
A96: 2.3.12 | B96: DC Solar Combiner Box, 14 String Inputs | C96: No. | D96: 1 | G96: =D96*(E96+F96) -> 0
... A118: 2.3.34 | B118: DC Solar Combiner Box, 36 String Inputs | C118: No. | D118: 1 | G118: =D118*(E118+F118) -> 0
A119: 2.4 | B119: PV DISCONECTOR/ISOLATOR: DC rated MCB/MCCB breaker, sized for total string current x1.25; 1000 V DC min; breaking capacity ≥25 kA/40KVA, suitable for DC switching. Supplied loose for mounting or integrated in combiner boxes as per spec & Design schedule | G119: =D119*(E119+F119) -> 0
A120: 2.4.1 | B120: PV Disconnect/Isolator, 2-Pole, 1000VDC, 16A | C120: No. | D120: 1 | G120: =D120*(E120+F120) -> 0
A121: 2.4.2 | B121: PV Disconnect/Isolator, 2-Pole, 1000VDC, 20A | C121: No. | D121: 1 | G121: =D121*(E121+F121) -> 0
A122: 2.4.3 | B122: PV Disconnect/Isolator, 2-Pole, 1000VDC, 25A | C122: No. | D122: 1 | G122: =D122*(E122+F122) -> 0
A123: 2.4.4 | B123: PV Disconnect/Isolator, 2-Pole, 1000VDC, 32A | C123: No. | D123: 1 | G123: =D123*(E123+F123) -> 0
A124: 2.4.5 | B124: PV Disconnect/Isolator, 2-Pole, 1000VDC, 40A | C124: No. | D124: 1 | G124: =D124*(E124+F124) -> 0
A125: 2.4.6 | B125: PV Disconnect/Isolator, 2-Pole, 1000VDC, 50A | C125: No. | D125: 1 | G125: =D125*(E125+F125) -> 0
A126: 2.4.7 | B126: PV Disconnect/Isolator, 2-Pole, 1000VDC, 63A | C126: No. | D126: 1 | G126: =D126*(E126+F126) -> 0
A127: 2.4.8 | B127: PV Disconnect/Isolator, 2-Pole, 1000VDC, 80A | C127: No. | D127: 1 | G127: =D127*(E127+F127) -> 0
A128: 2.4.9 | B128: PV Disconnect/Isolator, 2-Pole, 1000VDC, 100A | C128: No. | D128: 1 | G128: =D128*(E128+F128) -> 0
A129: 2.4.10 | B129: PV Disconnect/Isolator, 2-Pole, 1000VDC, 125A | C129: No. | D129: 1 | G129: =D129*(E129+F129) -> 0
A130: 2.4.11 | B130: PV Disconnect/Isolator, 2-Pole, 1000VDC, 160A | C130: No. | D130: 1 | G130: =D130*(E130+F130) -> 0
A131: 2.4.12 | B131: PV Disconnect/Isolator, 2-Pole, 1000VDC, 200A | C131: No. | D131: 1 | G131: =D131*(E131+F131) -> 0
... A138: 2.4.20 | B138: PV Disconnect/Isolator, 2-Pole, 1000VDC, 1000A | C138: No. | D138: 1 | G138: =D138*(E138+F138) -> 0
G139: =D139*(E139+F139) -> 0
A140: 2.5 | B140: PV DC String Cable: Supply, installation, testing and commissioning of Solar PV DC String Cable, single-core, tinned copper conductor, double insulated, UV resistant, halogen-free, suitable for photovoltaic applications, rated minimum 1.0/1.0 kV AC and 1.5 kV DC, complete with cable identification, terminations, testing, commissioning, documentation and warranty. | G140: =D140*(E140+F140) -> 0
A141: 2.5.1 | B141: PV DC String Cable, 1C x 4 mm² | C141: m | D141: 1 | G141: =D141*(E141+F141) -> 0
A142: 2.5.2 | B142: PV DC String Cable, 1C x 6 mm² | C142: m | D142: 1 | G142: =D142*(E142+F142) -> 0
A143: 2.5.3 | B143: PV DC String Cable, 1C x 10 mm² | C143: m | D143: 1 | G143: =D143*(E143+F143) -> 0
A144: 2.6 | B144: PV DC Main Feeder Cable: Supply, installation, testing and commissioning of Solar PV DC Main Feeder Cable, single-core, stranded copper conductor, XLPE insulated, PVC sheathed or equivalent solar-rated cable, suitable for photovoltaic combiner-to-inverter and DC distribution applications, rated minimum 1.5 kV DC, complete with cable identification, terminations, testing, commissioning, documentation and warranty. | G144: =D144*(E144+F144) -> 0
A145: 2.6.1 | B145: PV DC Main Feeder Cable, 1C x 6 mm² | C145: m | D145: 1 | G145: =D145*(E145+F145) -> 0
A146: 2.6.2 | B146: PV DC Main Feeder Cable, 1C x 10 mm² | C146: m | D146: 1 | G146: =D146*(E146+F146) -> 0
A147: 2.6.3 | B147: PV DC Main Feeder Cable, 1C x 16 mm² | C147: m | D147: 1 | G147: =D147*(E147+F147) -> 0
A148: 2.6.4 | B148: PV DC Main Feeder Cable, 1C x 25 mm² | C148: m | D148: 1 | G148: =D148*(E148+F148) -> 0
A149: 2.6.5 | B149: PV DC Main Feeder Cable, 1C x 35 mm² | C149: m | D149: 1 | G149: =D149*(E149+F149) -> 0
A150: 2.6.6 | B150: PV DC Main Feeder Cable, 1C x 50 mm² | C150: m | D150: 1 | G150: =D150*(E150+F150) -> 0
A151: 2.6.7 | B151: PV DC Main Feeder Cable, 1C x 70 mm² | C151: m | D151: 1 | G151: =D151*(E151+F151) -> 0
...

Sheet Form 1.4 SPARE
A1: ANNEX A: BIDDER'S FINANCIAL PROPOSAL SUBMISSION FORM
A2: ESTABLISHMENT OF LONG-TERM AGREEMENT SUPPLY, INSTALLATION AND COMMISSIONING OF HYBRIDE SOLAR PUMPING SYSTEM, BOREHOLE RISERS, CASINGS, PIPES AND FITTINGS, WATER QUALITY TREATMENT KITS AND PLANTS, AUXILIARY EQUIPMENT AND SPARE PARTS OF WASH PROJECTS ACROSS ETHIOPIA-
A3: Form A4: Spare parts Price schedule - LRFP-2026-9202696
A4: SCHEDULE A: PUMP & MOTOR O&M SPARES
A5: I. No | B5: Description | C5: Unit | D5: Qty | E5: Ceiling unit rate per supplied item capacity
E6: <7.5 kW | F6: 7.5-18.5 kW | G6: 22-45 kW | H6: 55-110 kW | I6: 132-250 kW | J6: S/TOTAL
A7: A1 | B7: Impeller Set | C7: Set
A8: A2 | B8: Diffuser Set | C8: Set | D8: SIZE
A9: A3 | B9: Mechanical Seal Kit | C9: Set
A10: A4 | B10: Bearing Set | C10: Set
A11: A5 | B11: Shaft Sleeve | C11: Ea
A12: A6 | B12: Wear Ring Set | C12: Set
A13: A7 | B13: Coupling Spider/Insert | C13: Ea
A14: A8 | B14: Cable Gland Kit | C14: Ea
A15: A9 | B15: Check Valve Repair Kit | C15: Set
A16: A10 | B16: O-Ring & Gasket Set | C16: Set
A17: SCHEDULE B: SOLAR PUMP INVERTER (VFD) O&M SPARES | I17: TOTAL
A19: I. No | B19: Description | C19: Unit | E19: <7.5 kW | F19: 7.5-18.5 kW | G19: 22-45 kW | H19: 55-110 kW | I19: 132-250 kW | J19: S/TOTAL
B20: Mandatory spare part for supplied motor pumps <7.5 kW
A21: B1 | B21: Control PCB | C21: Ea
A22: B2 | B22: IGBT Power Module | C22: Ea
A23: B3 | B23: HMI Display/Keypad | C23: Ea
A24: B4 | B24: Cooling Fan Assembly | C24: Ea
A25: B5 | B25: Communication Card | C25: Ea
A26: B6 | B26: DC Capacitor Kit | C26: Set
A27: B7 | B27: Fuse Set | C27: Set
A28: B8 | B28: Terminal Connector Set | C28: Set
I29: TOTAL
A30: SCHEDULE C: SOLAR PV SYSTEM O&M SPARES
A31: I. No | B31: Description | G31: Qty | H31: Unit | I31: Rate | J31: S/TOTAL
A32: C1 | B32: MC4 Connector Pair | G32: Pair
A33: C2 | B33: MC4 Branch Connector | G33: Ea
A34: C3 | B34: DC Fuse | G34: Ea
A35: C4 | B35: DC Fuse Holder | G35: Ea
A36: C5 | B36: SPD Cartridge Type II | G36: Ea
A37: C6 | B37: DC Isolator Handle Assembly | G37: Ea
A38: C7 | B38: Junction Box Components Kit | G38: Set
A39: C8 | B39: Cable Gland Kit | G39: Set
A40: C9 | B40: Earthing Clamp | G40: Ea
A41: C10 | B41: PV Cable | G41: m
I42: TOTAL
A44: SCHEDULE D: BATTERY ENERGY STORAGE SYSTEM (BESS) O&M SPARES
A45: I. No | B45: Description | G45: Qty | H45: Unit | I45: Rate | J45: S/TOTAL
A46: D1 | B46: Battery Fuse Kit | G46: Set
A47: D2 | B47: Battery Cooling Fan | G47: Ea
A48: D3 | B48: Temperature Sensor | G48: Ea
A49: D4 | B49: Communication Module | G49: Ea
A50: D5 | B50: BMS Communication Cable | G50: Ea
A51: D6 | B51: DC Disconnect Auxiliary Contact | G51: Ea
A52: D7 | B52: Terminal Connector Kit | G52: Set
I53: TOTAL
A55: SCHEDULE E: SCADA & TELEMETRY O&M SPARES
A56: I. No | B56: Description | G56: Qty | H56: Unit | I56: Rate | J56: S/TOTAL
A57: E1 | B57: GSM/4G Modem | G57: Ea
A58: E2 | B58: Communication Antenna | G58: Ea
A59: E3 | B59: Power Supply Module | G59: Ea
A60: E4 | B60: Analog I/O Module | G60: Ea
A61: E5 | B61: Digital I/O Module | G61: Ea
A62: E6 | B62: Memory Card/Data Storage Module | G62: Ea
A63: E7 | B63: UPS Backup Battery | G63: Ea
A64: E8 | B64: Flow Sensor | G64: Ea
A65: E9 | B65: Pressure Sensor | G65: Ea
A66: E10 | B66: Water Level Sensor | G66: Ea
A67: E11 | B67: Terminal Block Set | G67: Set
A68: E12 | B68: RS485 Converter | G68: Ea
I69: TOTAL
A70: SCHEDULE F: WATER TREATMENT SYSTEM O&M SPARES
A71: F.1 Chlorination System
A72: I. No | B72: Description | G72: Qty | H72: Unit | I72: Rate | J72: S/TOTAL
A73: F1 | B73: Diaphragm Kit | G73: Set
A74: F2 | B74: Injection Valve | G74: Ea
A75: F3 | B75: Foot Valve | G75: Ea
A76: F4 | B76: Tubing Kit | G76: Set
A77: F5 | B77: O-Ring Kit | G77: Set
A78: F6 | B78: Chlorine Residual Sensor | G78: Ea
I79: TOTAL
A80: F.2 Filtration System
A81: I. No | B81: Description | G81: Qty | H81: Unit | I81: Rate | J81: S/TOTAL
A82: F2 | B82: Filter Nozzles | G82: Ea
A83: F3 | B83: Solenoid Coil | G83: Ea
A84: F4 | B84: Pressure Gauge | G84: Ea
A85: F5 | B85: Valve Seal Kit | G85: Set
A86: F6 | B86: Actuator Repair Kit | G86: Set
I87: TOTAL
A88: F.3 UV Disinfection System
A89: I. No | B89: Description | G89: Qty | H89: Unit | I89: Rate | J89: S/TOTAL
A90: F3 | B90: UV Lamp | G90: Ea
A91: F4 | B91: Quartz Sleeve | G91: Ea
A92: F5 | B92: UV Sensor | G92: Ea
A93: F6 | B93: O-Ring Set | G93: Set
I94: TOTAL
A95: SCHEDULE G: DIESEL GENERATOR O&M SPARES
A96: I. No | B96: Description | C96: Unit | E96: <50 kVA | F96: 50-250 kVA | G96: >250 -450kVA | H96: >450 -650kVA | I96: >650 -850kVA | J96: S/TOTAL
A97: G1 | B97: Fuel Filter | C97: Ea
A98: G2 | B98: Oil Filter | C98: Ea
A99: G3 | B99: Air Filter | C99: Ea
A100: G4 | B100: V-Belt Set | C100: Set
A101: G5 | B101: Oil Pressure Sensor | C101: Ea
A102: G6 | B102: Coolant Temperature Sensor | C102: Ea
A103: G7 | B103: Solenoid Valve | C103: Ea
...
